BEGIN:VCALENDAR
VERSION:2.0
PRODID:-//Heart of Texas Cheer - ECPv6.15.20//NONSGML v1.0//EN
CALSCALE:GREGORIAN
METHOD:PUBLISH
X-WR-CALNAME:Heart of Texas Cheer
X-ORIGINAL-URL:https://heartoftexascheer.com
X-WR-CALDESC:Events for Heart of Texas Cheer
REFRESH-INTERVAL;VALUE=DURATION:PT1H
X-Robots-Tag:noindex
X-PUBLISHED-TTL:PT1H
BEGIN:VTIMEZONE
TZID:UTC
BEGIN:STANDARD
TZOFFSETFROM:+0000
TZOFFSETTO:+0000
TZNAME:UTC
DTSTART:20250101T000000
END:STANDARD
END:VTIMEZONE
BEGIN:VEVENT
DTSTART;TZID=UTC:20260601T080000
DTEND;TZID=UTC:20260604T120000
DTSTAMP:20260423T063155
CREATED:20260410T182002Z
LAST-MODIFIED:20260410T182006Z
UID:10000047-1780300800-1780574400@heartoftexascheer.com
SUMMARY:Cheer & Tumble Camp
DESCRIPTION:Get ready to fuel the fire this summer at our high-energy 4-Day Cheer & Tumbling Camp! This camp is designed for athletes of all skill levels who want to build confidence\, improve technique\, and have FUN in a positive\, encouraging environment. \nWhether your athlete is new to cheer or looking to level up their skills\, this camp is the perfect way to stay active\, make friends\, and keep progressing all summer long! \nCamp is Monday-Thursday 8:00am-12:pm\nAges 5-12yrs \n  \n 
URL:https://heartoftexascheer.com/event/cheer-tumble-camp/
CATEGORIES:Upcoming Events
ATTACH;FMTTYPE=image/png:https://heartoftexascheer.com/wp-content/uploads/2026/04/Summer-Cheer-and-Tumble-Camp.png
END:VEVENT
BEGIN:VEVENT
DTSTART;TZID=UTC:20260607T093000
DTEND;TZID=UTC:20260607T110000
DTSTAMP:20260423T063155
CREATED:20260410T200025Z
LAST-MODIFIED:20260410T200028Z
UID:10000048-1780824600-1780830000@heartoftexascheer.com
SUMMARY:Back Walkover Switch Leg
DESCRIPTION:This 1.5-hour clinic is designed for athletes who already have a back walkover and want to improve technique and consistency. \nAthletes will focus on body positions\, flexibility\, control\, and proper execution through drills and detailed corrections. We will also use counts to cue timing and help athletes know exactly when to switch for better rhythm and consistency. \nMUST have a back walkover for this clinic \n  \n 
URL:https://heartoftexascheer.com/event/back-walkover-switch-leg/
CATEGORIES:Skill-Specific Tumbling Clinics
ATTACH;FMTTYPE=image/png:https://heartoftexascheer.com/wp-content/uploads/2026/04/BWO-Switch.png
END:VEVENT
BEGIN:VEVENT
DTSTART;TZID=UTC:20260608T080000
DTEND;TZID=UTC:20260609T120000
DTSTAMP:20260423T063155
CREATED:20260412T111418Z
LAST-MODIFIED:20260412T111420Z
UID:10000049-1780905600-1781006400@heartoftexascheer.com
SUMMARY:Stitch Tumbling Camp
DESCRIPTION:Stitch Tumbling Camp \nJoin us for a fun-filled 2-day camp with island vibes and high-energy tumbling! \nDetails:\n2 Days\n8:00 AM – 12:00 PM\nAges 5–12 \nAthletes will work on tumbling basics\, skill progression\, strength\, and coordination—mixed with themed games\, activities\, and Stitch-inspired FUN! \nPerfect for all skill levels—come learn\, move\, and have a blast! 🌺 \n  \n 
URL:https://heartoftexascheer.com/event/stitch-tumbling-camp/
CATEGORIES:2-Day Specialty Fun & Tumbling Camp
ATTACH;FMTTYPE=image/png:https://heartoftexascheer.com/wp-content/uploads/2026/04/Holiday-Back-Handspring-Clinics-1.png
END:VEVENT
BEGIN:VEVENT
DTSTART;TZID=UTC:20260610T080000
DTEND;TZID=UTC:20260611T120000
DTSTAMP:20260423T063155
CREATED:20260412T113334Z
LAST-MODIFIED:20260412T113336Z
UID:10000050-1781078400-1781179200@heartoftexascheer.com
SUMMARY:nerf Ninja Tumbling Camp
DESCRIPTION:Nerf Ninja Tumbling Camp \nGet ready for 2 days of action-packed fun with tumbling + Nerf battles! \nDetails:\n2 Days\n8:00 AM – 12:00 PM\nAges 5–12 \nAthletes will build tumbling skills\, strength\, and coordination while enjoying obstacle courses\, ninja challenges\, and exciting Nerf games. \nPerfect for all skill levels—come ready to move\, compete\, and have a blast! \n  \n 
URL:https://heartoftexascheer.com/event/nerf-ninja-tumbling-camp/
CATEGORIES:2-Day Specialty Fun & Tumbling Camp
ATTACH;FMTTYPE=image/png:https://heartoftexascheer.com/wp-content/uploads/2026/04/Holiday-Back-Handspring-Clinics-2.png
END:VEVENT
BEGIN:VEVENT
DTSTART;TZID=UTC:20260613T080000
DTEND;TZID=UTC:20260613T093000
DTSTAMP:20260423T063155
CREATED:20260413T151704Z
LAST-MODIFIED:20260413T151707Z
UID:10000052-1781337600-1781343000@heartoftexascheer.com
SUMMARY:Back Walkover Clinic
DESCRIPTION:Back Walkover Clinic \nJune 13\n8:00 – 9:30 AM \nDesigned for athletes who already have a back walkover and want to improve technique\, control\, and consistency. \nAthletes will focus on body positions\, flexibility\, and timing (using counts) to clean up and strengthen their skill. \n  \n 
URL:https://heartoftexascheer.com/event/back-walkover-clinic/
CATEGORIES:Skill-Specific Tumbling Clinics
ATTACH;FMTTYPE=image/png:https://heartoftexascheer.com/wp-content/uploads/2026/04/Holiday-Back-Handspring-Clinics-4.png
END:VEVENT
BEGIN:VEVENT
DTSTART;TZID=UTC:20260613T100000
DTEND;TZID=UTC:20260613T010000
DTSTAMP:20260423T063155
CREATED:20260412T130125Z
LAST-MODIFIED:20260412T130127Z
UID:10000051-1781344800-1781312400@heartoftexascheer.com
SUMMARY:Back Handspring Clinic
DESCRIPTION:Back Handspring Clinic \nJune 13\n10:00 AM – 1:00 PM \nThis clinic is designed to build and improve back handsprings through focused drills\, technique work\, and progressions. \nRequirement: Must have a strong round-off rebound \nAthletes will work on power\, technique\, and confidence to take their back handspring to the next level. \n  \n 
URL:https://heartoftexascheer.com/event/back-handspring-clinic/
CATEGORIES:Skill-Specific Tumbling Clinics
ATTACH;FMTTYPE=image/png:https://heartoftexascheer.com/wp-content/uploads/2026/04/Holiday-Back-Handspring-Clinics-3.png
END:VEVENT
BEGIN:VEVENT
DTSTART;TZID=UTC:20260613T110000
DTEND;TZID=UTC:20260613T123000
DTSTAMP:20260423T063155
CREATED:20260413T153143Z
LAST-MODIFIED:20260413T153146Z
UID:10000053-1781348400-1781353800@heartoftexascheer.com
SUMMARY:Back Walkover Connections
DESCRIPTION:June 13\n11:00 AM – 12:30 PM \nFocus on connecting back walkovers to other skills like front walkovers\, cartwheels and even back handsprings. \nAthletes will work on timing (using counts)\, technique\, and control to create smooth\, confident connections. \n  \n 
URL:https://heartoftexascheer.com/event/back-walkover-connections/
CATEGORIES:Skill-Specific Tumbling Clinics
ATTACH;FMTTYPE=image/png:https://heartoftexascheer.com/wp-content/uploads/2026/04/Holiday-Back-Handspring-Clinics-5.png
END:VEVENT
BEGIN:VEVENT
DTSTART;TZID=UTC:20260711T080000
DTEND;TZID=UTC:20260711T093000
DTSTAMP:20260423T063155
CREATED:20260414T134954Z
LAST-MODIFIED:20260414T134958Z
UID:10000054-1783756800-1783762200@heartoftexascheer.com
SUMMARY:Back Walkover Clinic
DESCRIPTION:Back Walkover Clinic  \nJuly 11\n8:00 – 9:30 AM \nDesigned for athletes who already have a back walkover and want to improve technique\, control\, and consistency. \nAthletes will focus on body positions\, flexibility\, and timing (using counts) to clean up and strengthen their skill. \n  \n 
URL:https://heartoftexascheer.com/event/back-walkover-clinic-2/
CATEGORIES:Skill-Specific Tumbling Clinics
ATTACH;FMTTYPE=image/png:https://heartoftexascheer.com/wp-content/uploads/2026/04/Holiday-Back-Handspring-Clinics-41.png
END:VEVENT
BEGIN:VEVENT
DTSTART;TZID=UTC:20260711T093000
DTEND;TZID=UTC:20260711T110000
DTSTAMP:20260423T063155
CREATED:20260414T135624Z
LAST-MODIFIED:20260414T141918Z
UID:10000055-1783762200-1783767600@heartoftexascheer.com
SUMMARY:Back Walkover Swich
DESCRIPTION:July 11 \n9:30-11:00 \nThis 1.5-hour clinic is designed for athletes who already have a back walkover and want to improve technique and consistency. \nAthletes will focus on body positions\, flexibility\, control\, and proper execution through drills and detailed corrections. We will also use counts to cue timing and help athletes know exactly when to switch for better rhythm and consistency. \nMUST have a back walkover \n  \n 
URL:https://heartoftexascheer.com/event/back-walkover-swich/
CATEGORIES:Skill-Specific Tumbling Clinics
ATTACH;FMTTYPE=image/png:https://heartoftexascheer.com/wp-content/uploads/2026/04/Holiday-Back-Handspring-Clinics-7.png
END:VEVENT
END:VCALENDAR