BEGIN:VCALENDAR
VERSION:2.0
PRODID:-//Heart of Texas Cheer - ECPv6.15.20//NONSGML v1.0//EN
CALSCALE:GREGORIAN
METHOD:PUBLISH
X-WR-CALNAME:Heart of Texas Cheer
X-ORIGINAL-URL:https://heartoftexascheer.com
X-WR-CALDESC:Events for Heart of Texas Cheer
REFRESH-INTERVAL;VALUE=DURATION:PT1H
X-Robots-Tag:noindex
X-PUBLISHED-TTL:PT1H
BEGIN:VTIMEZONE
TZID:UTC
BEGIN:STANDARD
TZOFFSETFROM:+0000
TZOFFSETTO:+0000
TZNAME:UTC
DTSTART:20250101T000000
END:STANDARD
END:VTIMEZONE
BEGIN:VEVENT
DTSTART;TZID=UTC:20260608T080000
DTEND;TZID=UTC:20260609T120000
DTSTAMP:20260423T020951
CREATED:20260412T111418Z
LAST-MODIFIED:20260412T111420Z
UID:10000049-1780905600-1781006400@heartoftexascheer.com
SUMMARY:Stitch Tumbling Camp
DESCRIPTION:Stitch Tumbling Camp \nJoin us for a fun-filled 2-day camp with island vibes and high-energy tumbling! \nDetails:\n2 Days\n8:00 AM – 12:00 PM\nAges 5–12 \nAthletes will work on tumbling basics\, skill progression\, strength\, and coordination—mixed with themed games\, activities\, and Stitch-inspired FUN! \nPerfect for all skill levels—come learn\, move\, and have a blast! 🌺 \n  \n 
URL:https://heartoftexascheer.com/event/stitch-tumbling-camp/
CATEGORIES:2-Day Specialty Fun & Tumbling Camp
ATTACH;FMTTYPE=image/png:https://heartoftexascheer.com/wp-content/uploads/2026/04/Holiday-Back-Handspring-Clinics-1.png
END:VEVENT
BEGIN:VEVENT
DTSTART;TZID=UTC:20260610T080000
DTEND;TZID=UTC:20260611T120000
DTSTAMP:20260423T020951
CREATED:20260412T113334Z
LAST-MODIFIED:20260412T113336Z
UID:10000050-1781078400-1781179200@heartoftexascheer.com
SUMMARY:nerf Ninja Tumbling Camp
DESCRIPTION:Nerf Ninja Tumbling Camp \nGet ready for 2 days of action-packed fun with tumbling + Nerf battles! \nDetails:\n2 Days\n8:00 AM – 12:00 PM\nAges 5–12 \nAthletes will build tumbling skills\, strength\, and coordination while enjoying obstacle courses\, ninja challenges\, and exciting Nerf games. \nPerfect for all skill levels—come ready to move\, compete\, and have a blast! \n  \n 
URL:https://heartoftexascheer.com/event/nerf-ninja-tumbling-camp/
CATEGORIES:2-Day Specialty Fun & Tumbling Camp
ATTACH;FMTTYPE=image/png:https://heartoftexascheer.com/wp-content/uploads/2026/04/Holiday-Back-Handspring-Clinics-2.png
END:VEVENT
END:VCALENDAR